BEGIN:VCALENDAR
VERSION:2.0
PRODID:-//Libertarian Party of Mecklenburg County - ECPv6.15.20//NONSGML v1.0//EN
CALSCALE:GREGORIAN
METHOD:PUBLISH
X-ORIGINAL-URL:https://lpmeck.org
X-WR-CALDESC:Events for Libertarian Party of Mecklenburg County
REFRESH-INTERVAL;VALUE=DURATION:PT1H
X-Robots-Tag:noindex
X-PUBLISHED-TTL:PT1H
BEGIN:VTIMEZONE
TZID:America/New_York
BEGIN:DAYLIGHT
TZOFFSETFROM:-0500
TZOFFSETTO:-0400
TZNAME:EDT
DTSTART:20220313T070000
END:DAYLIGHT
BEGIN:STANDARD
TZOFFSETFROM:-0400
TZOFFSETTO:-0500
TZNAME:EST
DTSTART:20221106T060000
END:STANDARD
BEGIN:DAYLIGHT
TZOFFSETFROM:-0500
TZOFFSETTO:-0400
TZNAME:EDT
DTSTART:20230312T070000
END:DAYLIGHT
BEGIN:STANDARD
TZOFFSETFROM:-0400
TZOFFSETTO:-0500
TZNAME:EST
DTSTART:20231105T060000
END:STANDARD
BEGIN:DAYLIGHT
TZOFFSETFROM:-0500
TZOFFSETTO:-0400
TZNAME:EDT
DTSTART:20240310T070000
END:DAYLIGHT
BEGIN:STANDARD
TZOFFSETFROM:-0400
TZOFFSETTO:-0500
TZNAME:EST
DTSTART:20241103T060000
END:STANDARD
END:VTIMEZONE
BEGIN:VEVENT
DTSTART;TZID=America/New_York:20230610T130000
DTEND;TZID=America/New_York:20230610T150000
DTSTAMP:20260419T210537
CREATED:20230514T114049Z
LAST-MODIFIED:20230514T114049Z
UID:9575-1686402000-1686409200@lpmeck.org
SUMMARY:Greater Charlotte Libertarians June Meetup
DESCRIPTION:LPMeck is hosting the June monthly meeting at Seaboard Brewing in Matthews.  Please come out to have a drink and a meal\, and meet your fellow liberty-lovers from the Greater Mecklenburg region.  We will conduct some party business at the opening of the meeting\, then save plenty of time for fraternity and spirited discussion about current events and the expansion of libertarian ideals. \n\nThe June 10th\, 2023 meeting will be held at: \nSeaboard Brewing \n213 North Trade Street\nMatthews\, NC 28105 \nPlease RSVP on Meetup.org!
URL:https://lpmeck.org/event/greater-charlotte-libertarians-june-meetup/
LOCATION:Seaboard Brewing\, 213 North Trade Street\, Matthews\, NC\, 28105\, United States
CATEGORIES:Meetup
ATTACH;FMTTYPE=image/jpeg:https://lpmeck.org/wp-content/uploads/2023/05/Seaboard_Brewing_PicsArt_09-11-03.01.14.jpg
END:VEVENT
END:VCALENDAR