BEGIN:VCALENDAR
VERSION:2.0
PRODID:-//Libertarian Party of Mecklenburg County - ECPv6.15.20//NONSGML v1.0//EN
CALSCALE:GREGORIAN
METHOD:PUBLISH
X-ORIGINAL-URL:https://lpmeck.org
X-WR-CALDESC:Events for Libertarian Party of Mecklenburg County
REFRESH-INTERVAL;VALUE=DURATION:PT1H
X-Robots-Tag:noindex
X-PUBLISHED-TTL:PT1H
BEGIN:VTIMEZONE
TZID:America/New_York
BEGIN:DAYLIGHT
TZOFFSETFROM:-0500
TZOFFSETTO:-0400
TZNAME:EDT
DTSTART:20220313T070000
END:DAYLIGHT
BEGIN:STANDARD
TZOFFSETFROM:-0400
TZOFFSETTO:-0500
TZNAME:EST
DTSTART:20221106T060000
END:STANDARD
BEGIN:DAYLIGHT
TZOFFSETFROM:-0500
TZOFFSETTO:-0400
TZNAME:EDT
DTSTART:20230312T070000
END:DAYLIGHT
BEGIN:STANDARD
TZOFFSETFROM:-0400
TZOFFSETTO:-0500
TZNAME:EST
DTSTART:20231105T060000
END:STANDARD
BEGIN:DAYLIGHT
TZOFFSETFROM:-0500
TZOFFSETTO:-0400
TZNAME:EDT
DTSTART:20240310T070000
END:DAYLIGHT
BEGIN:STANDARD
TZOFFSETFROM:-0400
TZOFFSETTO:-0500
TZNAME:EST
DTSTART:20241103T060000
END:STANDARD
END:VTIMEZONE
BEGIN:VEVENT
DTSTART;TZID=America/New_York:20230318T100000
DTEND;TZID=America/New_York:20230318T120000
DTSTAMP:20260419T124426
CREATED:20230212T231153Z
LAST-MODIFIED:20230212T232252Z
UID:7809-1679133600-1679140800@lpmeck.org
SUMMARY:Greater Charlotte Libertarians March Meetup
DESCRIPTION:LPMeck is hosting the March monthly meeting at Waterbean Coffee in Huntersville.  Please come out to have a drink and a snack\, and meet your fellow liberty-lovers from the Greater Mecklenburg region.  We will conduct some party business at the opening of the meeting\, then save plenty of time for fraternity and spirited discussion about current events and the expansion of libertarian ideals. \n  \n\nThe March 18th\, 2023 meeting will be held at: \nWaterbean Coffee\n9705 Sam Furr Rd.\nSuite A\nHuntersville\, NC 28078 \nPlease RSVP on Meetup.org!
URL:https://lpmeck.org/event/mar2023meetup/
LOCATION:Waterbean Coffee\, 9705 Sam Furr Rd.\, Huntersville\, NC\, 28078\, United States
CATEGORIES:Meetup
ATTACH;FMTTYPE=image/jpeg:https://lpmeck.org/wp-content/uploads/2023/02/waterbean-coffee.jpg
END:VEVENT
END:VCALENDAR