BEGIN:VCALENDAR
VERSION:2.0
PRODID:-//Libertarian Party of Mecklenburg County - ECPv6.15.20//NONSGML v1.0//EN
CALSCALE:GREGORIAN
METHOD:PUBLISH
X-WR-CALNAME:Libertarian Party of Mecklenburg County
X-ORIGINAL-URL:https://lpmeck.org
X-WR-CALDESC:Events for Libertarian Party of Mecklenburg County
REFRESH-INTERVAL;VALUE=DURATION:PT1H
X-Robots-Tag:noindex
X-PUBLISHED-TTL:PT1H
BEGIN:VTIMEZONE
TZID:America/New_York
BEGIN:DAYLIGHT
TZOFFSETFROM:-0500
TZOFFSETTO:-0400
TZNAME:EDT
DTSTART:20220313T070000
END:DAYLIGHT
BEGIN:STANDARD
TZOFFSETFROM:-0400
TZOFFSETTO:-0500
TZNAME:EST
DTSTART:20221106T060000
END:STANDARD
BEGIN:DAYLIGHT
TZOFFSETFROM:-0500
TZOFFSETTO:-0400
TZNAME:EDT
DTSTART:20230312T070000
END:DAYLIGHT
BEGIN:STANDARD
TZOFFSETFROM:-0400
TZOFFSETTO:-0500
TZNAME:EST
DTSTART:20231105T060000
END:STANDARD
BEGIN:DAYLIGHT
TZOFFSETFROM:-0500
TZOFFSETTO:-0400
TZNAME:EDT
DTSTART:20240310T070000
END:DAYLIGHT
BEGIN:STANDARD
TZOFFSETFROM:-0400
TZOFFSETTO:-0500
TZNAME:EST
DTSTART:20241103T060000
END:STANDARD
END:VTIMEZONE
BEGIN:VEVENT
DTSTART;TZID=America/New_York:20230210T233000
DTEND;TZID=America/New_York:20230211T020000
DTSTAMP:20260419T105848
CREATED:20230205T130410Z
LAST-MODIFIED:20230205T130410Z
UID:7755-1676071800-1676080800@lpmeck.org
SUMMARY:Libertarian Party monthly meeting @ Mugs Coffee
DESCRIPTION:This is a place holder for the MONTHLY RECURRING business meetings for LPMeck. We are going to try to do the 2nd Saturday of the month in the morning\, though we will also put a few evening meetings in place for those that can’t make Saturday. \nThe February 11th\, 2023 meeting will be held at: \nMugs Coffee\n5126 Park Rd\nSuite 1D\nCharlotte\, NC 28209 \nPlease RSVP on Meetup.org!
URL:https://lpmeck.org/event/libertarian-party-monthly-meeting-mugs-coffee-14/
LOCATION:Mugs Coffee\, 5126 Park Rd Suite 1D\, Charlotte\, NC\, 28209\, United States
ORGANIZER;CN="Jeff Scott":MAILTO:jscott@lpmeck.org
END:VEVENT
END:VCALENDAR